BEGIN:VCALENDAR
VERSION:2.0
PRODID:spatie/icalendar-generator
DESCRIPTION:Veranstaltungen von Scheiffarth und Partner Steuerberater
X-WR-CALDESC:Veranstaltungen von Scheiffarth und Partner Steuerberater
REFRESH-INTERVAL;VALUE=DURATION:PT1440M
X-PUBLISHED-TTL:PT1440M
BEGIN:VTIMEZONE
TZID:Europe/Berlin
BEGIN:DAYLIGHT
DTSTART:20240331T020000Z
TZOFFSETFROM:+0100
TZOFFSETTO:+0200
END:DAYLIGHT
BEGIN:STANDARD
DTSTART:20241027T030000Z
TZOFFSETFROM:+0200
TZOFFSETTO:+0100
END:STANDARD
BEGIN:DAYLIGHT
DTSTART:20250330T020000Z
TZOFFSETFROM:+0100
TZOFFSETTO:+0200
END:DAYLIGHT
END:VTIMEZONE
BEGIN:VTIMEZONE
TZID:UTC
BEGIN:STANDARD
DTSTART:20250727T095412Z
TZOFFSETFROM:+0000
TZOFFSETTO:+0000
END:STANDARD
END:VTIMEZONE
BEGIN:VEVENT
UID:1368-3
DTSTAMP:20260423T095412Z
SUMMARY:GewSt / GrSt
LOCATION:
ORGANIZER;CN=scheiFFAdmin:MAILTO:post@amaze.de
RRULE:FREQ=MONTHLY;BYMONTHDAY=15;INTERVAL=3;COUNT=100
DTSTART;TZID=Europe/Berlin;VALUE=DATE:20241115
DTEND;TZID=Europe/Berlin;VALUE=DATE:20241116
X-ALT-DESC;FMTTYPE=TEXT/HTML:<p>Gewerbesteuer / Grundsteuer*<br />\n* Bitte
  beachten Sie\, dass bei der Grundsteuer auf Antrag des Steuerpflichtigen 
 von den Terminen abgewichen werden kann (§ 28 Abs. 3 GrStG)</p>\n
CATEGORIES:General
URL;VALUE=URI:http://www.scheiffarth.de/wp/mc-events/gewst-grst/?mc_id=1368
END:VEVENT
END:VCALENDAR